BEGIN:VCALENDAR
VERSION:2.0
PRODID:-//Sacred Heart Church - ECPv6.15.20//NONSGML v1.0//EN
CALSCALE:GREGORIAN
METHOD:PUBLISH
X-WR-CALNAME:Sacred Heart Church
X-ORIGINAL-URL:https://sacredheartnorwichct.org
X-WR-CALDESC:Events for Sacred Heart Church
REFRESH-INTERVAL;VALUE=DURATION:PT1H
X-Robots-Tag:noindex
X-PUBLISHED-TTL:PT1H
BEGIN:VTIMEZONE
TZID:America/New_York
BEGIN:DAYLIGHT
TZOFFSETFROM:-0500
TZOFFSETTO:-0400
TZNAME:EDT
DTSTART:20230312T070000
END:DAYLIGHT
BEGIN:STANDARD
TZOFFSETFROM:-0400
TZOFFSETTO:-0500
TZNAME:EST
DTSTART:20231105T060000
END:STANDARD
BEGIN:DAYLIGHT
TZOFFSETFROM:-0500
TZOFFSETTO:-0400
TZNAME:EDT
DTSTART:20240310T070000
END:DAYLIGHT
BEGIN:STANDARD
TZOFFSETFROM:-0400
TZOFFSETTO:-0500
TZNAME:EST
DTSTART:20241103T060000
END:STANDARD
BEGIN:DAYLIGHT
TZOFFSETFROM:-0500
TZOFFSETTO:-0400
TZNAME:EDT
DTSTART:20250309T070000
END:DAYLIGHT
BEGIN:STANDARD
TZOFFSETFROM:-0400
TZOFFSETTO:-0500
TZNAME:EST
DTSTART:20251102T060000
END:STANDARD
END:VTIMEZONE
BEGIN:VEVENT
DTSTART;TZID=America/New_York:20240512T113000
DTEND;TZID=America/New_York:20240512T114500
DTSTAMP:20260423T110223
CREATED:20240429T210227Z
LAST-MODIFIED:20240429T210227Z
UID:4674-1715513400-1715514300@sacredheartnorwichct.org
SUMMARY:Crowning of Mary
DESCRIPTION:Share this:\n				Share on X (Opens in new window)\n				X\n			\n				Share on Facebook (Opens in new window)\n				Facebook\n			More\n				Print (Opens in new window)\n				Print\n			\n				Share on Pinterest (Opens in new window)\n				Pinterest
URL:https://sacredheartnorwichct.org/event/crowning-of-mary/
LOCATION:SH Church
CATEGORIES:Religious Event
ATTACH;FMTTYPE=image/jpeg:https://sacredheartnorwichct.org/wp-content/uploads/2019/02/20181107_133630-4092776670-1556470836105-e1714424470465.jpg
END:VEVENT
END:VCALENDAR